BEGIN:VCALENDAR
VERSION:2.0
CALSCALE:GREGORIAN
BEGIN:VEVENT
URL:https://www.learndesk.us/class/5344867330818048/lesson/4bf87584aae4bd348377b0ff01eba6f9?ref=outlook-calendar
SUMMARY:Emotions come from brain, not heart
DTSTART;TZID=America/Los_Angeles:20260421T190000
DTEND;TZID=America/Los_Angeles:20260421T200000
LOCATION:https://www.learndesk.us/class/5344867330818048/lesson/4bf87584aae4bd348377b0ff01eba6f9?ref=outlook-calendar
DESCRIPTION: https://www.learndesk.us/class/5344867330818048/lesson/4bf87584aae4bd348377b0ff01eba6f9?ref=outlook-calendar
STATUS:CONFIRMED
SEQUENCE:3
BEGIN:VALARM
TRIGGER:-PT10M
DESCRIPTION:Class Reminder
ACTION:DISPLAY
END:VALARM
END:VEVENT
END:VCALENDAR