BEGIN:VCALENDAR
VERSION:2.0
CALSCALE:GREGORIAN
BEGIN:VEVENT
URL:https://www.learndesk.us/class/5336487950286848/lesson/dfd7caf661b7a5de87e10f75dfe11584?ref=outlook-calendar
SUMMARY:Lesson 7
DTSTART;TZID=America/Los_Angeles:20260422T190000
DTEND;TZID=America/Los_Angeles:20260422T200000
LOCATION:https://www.learndesk.us/class/5336487950286848/lesson/dfd7caf661b7a5de87e10f75dfe11584?ref=outlook-calendar
DESCRIPTION: The 7 Key Elements. Wrapping it all up.

https://www.learndesk.us/class/5336487950286848/lesson/dfd7caf661b7a5de87e10f75dfe11584?ref=outlook-calendar
STATUS:CONFIRMED
SEQUENCE:3
BEGIN:VALARM
TRIGGER:-PT10M
DESCRIPTION:Class Reminder
ACTION:DISPLAY
END:VALARM
END:VEVENT
END:VCALENDAR