BEGIN:VCALENDAR
VERSION:2.0
CALSCALE:GREGORIAN
BEGIN:VEVENT
URL:https://www.learndesk.us/class/5336487950286848/lesson/4778dabea80c46d2cd1e107335f65c82?ref=outlook-calendar
SUMMARY:Introduction Section
DTSTART;TZID=America/Los_Angeles:20260422T190000
DTEND;TZID=America/Los_Angeles:20260422T200000
LOCATION:https://www.learndesk.us/class/5336487950286848/lesson/4778dabea80c46d2cd1e107335f65c82?ref=outlook-calendar
DESCRIPTION: The first video is a Trailer - Just to give you a quick look at the process

https://www.learndesk.us/class/5336487950286848/lesson/4778dabea80c46d2cd1e107335f65c82?ref=outlook-calendar
STATUS:CONFIRMED
SEQUENCE:3
BEGIN:VALARM
TRIGGER:-PT10M
DESCRIPTION:Class Reminder
ACTION:DISPLAY
END:VALARM
END:VEVENT
END:VCALENDAR