BEGIN:VCALENDAR
VERSION:2.0
CALSCALE:GREGORIAN
BEGIN:VEVENT
URL:https://www.learndesk.us/class/5336487950286848/writing-your-first-romance-novel-in-guided-practical-steps?ref=outlook-calendar
SUMMARY:Writing your First Romance Novel in Guided Practical Steps
DTSTART;TZID=America/Los_Angeles:20260422T190000
DTEND;TZID=America/Los_Angeles:20260422T200000
LOCATION:https://www.learndesk.us/class/5336487950286848/writing-your-first-romance-novel-in-guided-practical-steps?ref=outlook-calendar
DESCRIPTION: 
You can write your first Romance Novel. It's a fun and exciting thing to do, as you build your world and populate it with the characters you will learn to love, and even to dislike! Yes, that's right - they are your characters, and you can give them whatever personality you like. 
You don't need any experience. You don't need a degree. If you can read and write, and have an imagination, that's all you need.
The Romance novel genre that has been popularised by Mills & Boon is the best place to start when wanting to begin your first novel. As you most likely know by now, it’s not that easy to sit down and start writing. It takes courage, and some dedication, but once you start, like any good novel, you won't be able to put it down.


https://www.learndesk.us/class/5336487950286848/writing-your-first-romance-novel-in-guided-practical-steps?ref=outlook-calendar
STATUS:CONFIRMED
SEQUENCE:3
BEGIN:VALARM
TRIGGER:-PT10M
DESCRIPTION:Class Reminder
ACTION:DISPLAY
END:VALARM
END:VEVENT
END:VCALENDAR