BEGIN:VCALENDAR
VERSION:2.0
CALSCALE:GREGORIAN
BEGIN:VEVENT
URL:https://www.learndesk.us/class/5326299717435392/lesson/d91186f9f5a52ee44ac371bcb7e9369b?ref=outlook-calendar
SUMMARY:Part 4: Part Interference and Fasteners
DTSTART;TZID=America/Los_Angeles:20260423T190000
DTEND;TZID=America/Los_Angeles:20260423T200000
LOCATION:https://www.learndesk.us/class/5326299717435392/lesson/d91186f9f5a52ee44ac371bcb7e9369b?ref=outlook-calendar
DESCRIPTION: Solar light design part 4.

https://www.learndesk.us/class/5326299717435392/lesson/d91186f9f5a52ee44ac371bcb7e9369b?ref=outlook-calendar
STATUS:CONFIRMED
SEQUENCE:3
BEGIN:VALARM
TRIGGER:-PT10M
DESCRIPTION:Class Reminder
ACTION:DISPLAY
END:VALARM
END:VEVENT
END:VCALENDAR