BEGIN:VCALENDAR
VERSION:2.0
CALSCALE:GREGORIAN
BEGIN:VEVENT
URL:https://www.learndesk.us/class/5326299717435392/lesson/d4c7f542035e031e2f4e6c291775f99f?ref=outlook-calendar
SUMMARY:Part 1: Efficient Placing Of The Different Parts In Your Product
DTSTART;TZID=America/Los_Angeles:20260423T190000
DTEND;TZID=America/Los_Angeles:20260423T200000
LOCATION:https://www.learndesk.us/class/5326299717435392/lesson/d4c7f542035e031e2f4e6c291775f99f?ref=outlook-calendar
DESCRIPTION: We start detailed designs of our solar light, and talk about where to place different components in your product.

https://www.learndesk.us/class/5326299717435392/lesson/d4c7f542035e031e2f4e6c291775f99f?ref=outlook-calendar
STATUS:CONFIRMED
SEQUENCE:3
BEGIN:VALARM
TRIGGER:-PT10M
DESCRIPTION:Class Reminder
ACTION:DISPLAY
END:VALARM
END:VEVENT
END:VCALENDAR