BEGIN:VCALENDAR
VERSION:2.0
CALSCALE:GREGORIAN
BEGIN:VEVENT
URL:https://www.learndesk.us/class/5326299717435392/lesson/a9691db111e7b4d75a0c864b14fdd5cd?ref=outlook-calendar
SUMMARY:A Design From Home - Solar Light
DTSTART;TZID=America/Los_Angeles:20260423T190000
DTEND;TZID=America/Los_Angeles:20260423T200000
LOCATION:https://www.learndesk.us/class/5326299717435392/lesson/a9691db111e7b4d75a0c864b14fdd5cd?ref=outlook-calendar
DESCRIPTION: https://www.learndesk.us/class/5326299717435392/lesson/a9691db111e7b4d75a0c864b14fdd5cd?ref=outlook-calendar
STATUS:CONFIRMED
SEQUENCE:3
BEGIN:VALARM
TRIGGER:-PT10M
DESCRIPTION:Class Reminder
ACTION:DISPLAY
END:VALARM
END:VEVENT
END:VCALENDAR