BEGIN:VCALENDAR
VERSION:2.0
CALSCALE:GREGORIAN
BEGIN:VEVENT
URL:https://www.learndesk.us/class/5326299717435392/lesson/84e78ba0d02c39e570b60a0b5a42ab8a?ref=outlook-calendar
SUMMARY:Setting Materials In CAD And Determining Key Properties Of Your Product
DTSTART;TZID=America/Los_Angeles:20260423T190000
DTEND;TZID=America/Los_Angeles:20260423T200000
LOCATION:https://www.learndesk.us/class/5326299717435392/lesson/84e78ba0d02c39e570b60a0b5a42ab8a?ref=outlook-calendar
DESCRIPTION: Choose and set materials in CAD, and learn to find properties of your product.  Weight and moment of inertia.

https://www.learndesk.us/class/5326299717435392/lesson/84e78ba0d02c39e570b60a0b5a42ab8a?ref=outlook-calendar
STATUS:CONFIRMED
SEQUENCE:3
BEGIN:VALARM
TRIGGER:-PT10M
DESCRIPTION:Class Reminder
ACTION:DISPLAY
END:VALARM
END:VEVENT
END:VCALENDAR