BEGIN:VCALENDAR
VERSION:2.0
CALSCALE:GREGORIAN
BEGIN:VEVENT
URL:https://www.learndesk.us/class/5326299717435392/lesson/83c50aaee3cf1d52759d62719fbcb04c?ref=outlook-calendar
SUMMARY:Four Essential Features
DTSTART;TZID=America/Los_Angeles:20260423T190000
DTEND;TZID=America/Los_Angeles:20260423T200000
LOCATION:https://www.learndesk.us/class/5326299717435392/lesson/83c50aaee3cf1d52759d62719fbcb04c?ref=outlook-calendar
DESCRIPTION: We finish off the 4 fundamental designing methods of CAD.

https://www.learndesk.us/class/5326299717435392/lesson/83c50aaee3cf1d52759d62719fbcb04c?ref=outlook-calendar
STATUS:CONFIRMED
SEQUENCE:3
BEGIN:VALARM
TRIGGER:-PT10M
DESCRIPTION:Class Reminder
ACTION:DISPLAY
END:VALARM
END:VEVENT
END:VCALENDAR