BEGIN:VCALENDAR
VERSION:2.0
CALSCALE:GREGORIAN
BEGIN:VEVENT
URL:https://www.learndesk.us/class/5326299717435392/lesson/7db4a835301d552092f8c35c95839f5a?ref=outlook-calendar
SUMMARY:What CAD Program Should I Use At Home And Why?
DTSTART;TZID=America/Los_Angeles:20260423T190000
DTEND;TZID=America/Los_Angeles:20260423T200000
LOCATION:https://www.learndesk.us/class/5326299717435392/lesson/7db4a835301d552092f8c35c95839f5a?ref=outlook-calendar
DESCRIPTION: Learn the best CAD programs to use at home and why.  Then, we choose the best program there is to offer (professional and free).

https://www.learndesk.us/class/5326299717435392/lesson/7db4a835301d552092f8c35c95839f5a?ref=outlook-calendar
STATUS:CONFIRMED
SEQUENCE:3
BEGIN:VALARM
TRIGGER:-PT10M
DESCRIPTION:Class Reminder
ACTION:DISPLAY
END:VALARM
END:VEVENT
END:VCALENDAR