BEGIN:VCALENDAR
VERSION:2.0
CALSCALE:GREGORIAN
BEGIN:VEVENT
URL:https://www.learndesk.us/class/5326299717435392/lesson/6940dffa14262aabdf895b844b59541c?ref=outlook-calendar
SUMMARY:The Manufacturing Methods To Produce Almost Any Part
DTSTART;TZID=America/Los_Angeles:20260423T190000
DTEND;TZID=America/Los_Angeles:20260423T200000
LOCATION:https://www.learndesk.us/class/5326299717435392/lesson/6940dffa14262aabdf895b844b59541c?ref=outlook-calendar
DESCRIPTION: These are the manufacturing methods to know, to design nearly any part.

https://www.learndesk.us/class/5326299717435392/lesson/6940dffa14262aabdf895b844b59541c?ref=outlook-calendar
STATUS:CONFIRMED
SEQUENCE:3
BEGIN:VALARM
TRIGGER:-PT10M
DESCRIPTION:Class Reminder
ACTION:DISPLAY
END:VALARM
END:VEVENT
END:VCALENDAR