BEGIN:VCALENDAR
VERSION:2.0
CALSCALE:GREGORIAN
BEGIN:VEVENT
URL:https://www.learndesk.us/class/5326299717435392/lesson/685c8771b0b1a86654332927d61ea6b7?ref=outlook-calendar
SUMMARY:Properties Of Your Design And Producing High Quality Marketing Images
DTSTART;TZID=America/Los_Angeles:20260423T190000
DTEND;TZID=America/Los_Angeles:20260423T200000
LOCATION:https://www.learndesk.us/class/5326299717435392/lesson/685c8771b0b1a86654332927d61ea6b7?ref=outlook-calendar
DESCRIPTION: https://www.learndesk.us/class/5326299717435392/lesson/685c8771b0b1a86654332927d61ea6b7?ref=outlook-calendar
STATUS:CONFIRMED
SEQUENCE:3
BEGIN:VALARM
TRIGGER:-PT10M
DESCRIPTION:Class Reminder
ACTION:DISPLAY
END:VALARM
END:VEVENT
END:VCALENDAR