BEGIN:VCALENDAR
VERSION:2.0
CALSCALE:GREGORIAN
BEGIN:VEVENT
URL:https://www.learndesk.us/class/5326299717435392/lesson/4581bb723799d30ebe03f29e2c73779c?ref=outlook-calendar
SUMMARY:Part 2: Thinking In 3D
DTSTART;TZID=America/Los_Angeles:20260423T190000
DTEND;TZID=America/Los_Angeles:20260423T200000
LOCATION:https://www.learndesk.us/class/5326299717435392/lesson/4581bb723799d30ebe03f29e2c73779c?ref=outlook-calendar
DESCRIPTION: We finish off our 'first version' 3D model, and learn to think in 3 dimensions with our designs.

https://www.learndesk.us/class/5326299717435392/lesson/4581bb723799d30ebe03f29e2c73779c?ref=outlook-calendar
STATUS:CONFIRMED
SEQUENCE:3
BEGIN:VALARM
TRIGGER:-PT10M
DESCRIPTION:Class Reminder
ACTION:DISPLAY
END:VALARM
END:VEVENT
END:VCALENDAR