BEGIN:VCALENDAR
VERSION:2.0
CALSCALE:GREGORIAN
BEGIN:VEVENT
URL:https://www.learndesk.us/class/5326299717435392/lesson/4378f34a4a6edcb8b3a26c22a0ea233a?ref=outlook-calendar
SUMMARY:Bringing The Modern Tools of Engineers To Our Homes
DTSTART;TZID=America/Los_Angeles:20260423T190000
DTEND;TZID=America/Los_Angeles:20260423T200000
LOCATION:https://www.learndesk.us/class/5326299717435392/lesson/4378f34a4a6edcb8b3a26c22a0ea233a?ref=outlook-calendar
DESCRIPTION: Learn the tools engineers use in industry that can be transferred to the home.

https://www.learndesk.us/class/5326299717435392/lesson/4378f34a4a6edcb8b3a26c22a0ea233a?ref=outlook-calendar
STATUS:CONFIRMED
SEQUENCE:3
BEGIN:VALARM
TRIGGER:-PT10M
DESCRIPTION:Class Reminder
ACTION:DISPLAY
END:VALARM
END:VEVENT
END:VCALENDAR