BEGIN:VCALENDAR
VERSION:2.0
CALSCALE:GREGORIAN
BEGIN:VEVENT
URL:https://www.learndesk.us/class/5326299717435392/lesson/412036b6df4f1f0ee9377370ae7ba402?ref=outlook-calendar
SUMMARY:Part 7: Aesthetics And Finishing Your Design
DTSTART;TZID=America/Los_Angeles:20260423T190000
DTEND;TZID=America/Los_Angeles:20260423T200000
LOCATION:https://www.learndesk.us/class/5326299717435392/lesson/412036b6df4f1f0ee9377370ae7ba402?ref=outlook-calendar
DESCRIPTION: Finishing the mechanical design of the solar light.

https://www.learndesk.us/class/5326299717435392/lesson/412036b6df4f1f0ee9377370ae7ba402?ref=outlook-calendar
STATUS:CONFIRMED
SEQUENCE:3
BEGIN:VALARM
TRIGGER:-PT10M
DESCRIPTION:Class Reminder
ACTION:DISPLAY
END:VALARM
END:VEVENT
END:VCALENDAR