BEGIN:VCALENDAR
VERSION:2.0
CALSCALE:GREGORIAN
BEGIN:VEVENT
URL:https://www.learndesk.us/class/5326299717435392/lesson/3f6928d8930ad9faedb754296a1ce90f?ref=outlook-calendar
SUMMARY:Making High Quality 3D Images For Marketing Your Design
DTSTART;TZID=America/Los_Angeles:20260423T190000
DTEND;TZID=America/Los_Angeles:20260423T200000
LOCATION:https://www.learndesk.us/class/5326299717435392/lesson/3f6928d8930ad9faedb754296a1ce90f?ref=outlook-calendar
DESCRIPTION: Now that we've designed a full product, we learn to produce high quality images which can be used for marketing and more.

https://www.learndesk.us/class/5326299717435392/lesson/3f6928d8930ad9faedb754296a1ce90f?ref=outlook-calendar
STATUS:CONFIRMED
SEQUENCE:3
BEGIN:VALARM
TRIGGER:-PT10M
DESCRIPTION:Class Reminder
ACTION:DISPLAY
END:VALARM
END:VEVENT
END:VCALENDAR