BEGIN:VCALENDAR
VERSION:2.0
CALSCALE:GREGORIAN
BEGIN:VEVENT
URL:https://www.learndesk.us/class/5326299717435392/lesson/3e00600e30c66270a14b31f6f7df8739?ref=outlook-calendar
SUMMARY:Modern Manufacturing From Home
DTSTART;TZID=America/Los_Angeles:20260423T190000
DTEND;TZID=America/Los_Angeles:20260423T200000
LOCATION:https://www.learndesk.us/class/5326299717435392/lesson/3e00600e30c66270a14b31f6f7df8739?ref=outlook-calendar
DESCRIPTION: Modern manufacturing methods from our home.  From our computer, we summon parts to our door, to start building!

https://www.learndesk.us/class/5326299717435392/lesson/3e00600e30c66270a14b31f6f7df8739?ref=outlook-calendar
STATUS:CONFIRMED
SEQUENCE:3
BEGIN:VALARM
TRIGGER:-PT10M
DESCRIPTION:Class Reminder
ACTION:DISPLAY
END:VALARM
END:VEVENT
END:VCALENDAR