BEGIN:VCALENDAR
VERSION:2.0
CALSCALE:GREGORIAN
BEGIN:VEVENT
URL:https://www.learndesk.us/class/5326299717435392/lesson/3cc6c72ff94c242eebe424085616048a?ref=outlook-calendar
SUMMARY:Design Tools of Engineers - Focus on CAD
DTSTART;TZID=America/Los_Angeles:20260423T190000
DTEND;TZID=America/Los_Angeles:20260423T200000
LOCATION:https://www.learndesk.us/class/5326299717435392/lesson/3cc6c72ff94c242eebe424085616048a?ref=outlook-calendar
DESCRIPTION: What are the tools engineers use in industry, and how can we bring them to our home?

https://www.learndesk.us/class/5326299717435392/lesson/3cc6c72ff94c242eebe424085616048a?ref=outlook-calendar
STATUS:CONFIRMED
SEQUENCE:3
BEGIN:VALARM
TRIGGER:-PT10M
DESCRIPTION:Class Reminder
ACTION:DISPLAY
END:VALARM
END:VEVENT
END:VCALENDAR