BEGIN:VCALENDAR
VERSION:2.0
CALSCALE:GREGORIAN
BEGIN:VEVENT
URL:https://www.learndesk.us/class/5326299717435392/lesson/2b68f904da60983a54bd223c1bf66f16?ref=outlook-calendar
SUMMARY:Part 2: Enclosing Parts Within Your Product
DTSTART;TZID=America/Los_Angeles:20260423T190000
DTEND;TZID=America/Los_Angeles:20260423T200000
LOCATION:https://www.learndesk.us/class/5326299717435392/lesson/2b68f904da60983a54bd223c1bf66f16?ref=outlook-calendar
DESCRIPTION: Solar light design part 2.  Enclosing your product.

https://www.learndesk.us/class/5326299717435392/lesson/2b68f904da60983a54bd223c1bf66f16?ref=outlook-calendar
STATUS:CONFIRMED
SEQUENCE:3
BEGIN:VALARM
TRIGGER:-PT10M
DESCRIPTION:Class Reminder
ACTION:DISPLAY
END:VALARM
END:VEVENT
END:VCALENDAR