BEGIN:VCALENDAR
VERSION:2.0
CALSCALE:GREGORIAN
BEGIN:VEVENT
URL:https://www.learndesk.us/class/5326299717435392/lesson/24f396ac9c3058e3d57618ba35f51f72?ref=outlook-calendar
SUMMARY:Part 1: Online CAD Databases And Rough 3D Modeling
DTSTART;TZID=America/Los_Angeles:20260423T190000
DTEND;TZID=America/Los_Angeles:20260423T200000
LOCATION:https://www.learndesk.us/class/5326299717435392/lesson/24f396ac9c3058e3d57618ba35f51f72?ref=outlook-calendar
DESCRIPTION: We start designing a real product.  Learn fast modeling techniques to put together rough 3D models of your design.

https://www.learndesk.us/class/5326299717435392/lesson/24f396ac9c3058e3d57618ba35f51f72?ref=outlook-calendar
STATUS:CONFIRMED
SEQUENCE:3
BEGIN:VALARM
TRIGGER:-PT10M
DESCRIPTION:Class Reminder
ACTION:DISPLAY
END:VALARM
END:VEVENT
END:VCALENDAR