BEGIN:VCALENDAR
VERSION:2.0
CALSCALE:GREGORIAN
BEGIN:VEVENT
URL:https://www.learndesk.us/class/5326299717435392/lesson/223ee50a75c16a1678642425083c91de?ref=outlook-calendar
SUMMARY:Your Parts In Motion And Assembling In CAD
DTSTART;TZID=America/Los_Angeles:20260423T190000
DTEND;TZID=America/Los_Angeles:20260423T200000
LOCATION:https://www.learndesk.us/class/5326299717435392/lesson/223ee50a75c16a1678642425083c91de?ref=outlook-calendar
DESCRIPTION: Learn how to bring motion to your design and parts.

https://www.learndesk.us/class/5326299717435392/lesson/223ee50a75c16a1678642425083c91de?ref=outlook-calendar
STATUS:CONFIRMED
SEQUENCE:3
BEGIN:VALARM
TRIGGER:-PT10M
DESCRIPTION:Class Reminder
ACTION:DISPLAY
END:VALARM
END:VEVENT
END:VCALENDAR