BEGIN:VCALENDAR
VERSION:2.0
CALSCALE:GREGORIAN
BEGIN:VEVENT
URL:https://www.learndesk.us/class/5326299717435392/lesson/132131536bc27eae04bc6fb281f41f7e?ref=outlook-calendar
SUMMARY:CAD Essentials - Methods and Mindsets
DTSTART;TZID=America/Los_Angeles:20260423T190000
DTEND;TZID=America/Los_Angeles:20260423T200000
LOCATION:https://www.learndesk.us/class/5326299717435392/lesson/132131536bc27eae04bc6fb281f41f7e?ref=outlook-calendar
DESCRIPTION: Defining your needs for designing at home, and choosing a CAD program.

https://www.learndesk.us/class/5326299717435392/lesson/132131536bc27eae04bc6fb281f41f7e?ref=outlook-calendar
STATUS:CONFIRMED
SEQUENCE:3
BEGIN:VALARM
TRIGGER:-PT10M
DESCRIPTION:Class Reminder
ACTION:DISPLAY
END:VALARM
END:VEVENT
END:VCALENDAR