BEGIN:VCALENDAR
VERSION:2.0
CALSCALE:GREGORIAN
BEGIN:VEVENT
URL:https://www.learndesk.us/class/5326299717435392/lesson/10be7adefc3ad6e426298ff012ddc78a?ref=outlook-calendar
SUMMARY:Part 3: Fastening and Connecting Your Parts
DTSTART;TZID=America/Los_Angeles:20260425T190000
DTEND;TZID=America/Los_Angeles:20260425T200000
LOCATION:https://www.learndesk.us/class/5326299717435392/lesson/10be7adefc3ad6e426298ff012ddc78a?ref=outlook-calendar
DESCRIPTION: Solar light design part 3.  Fastening and connecting your product.

https://www.learndesk.us/class/5326299717435392/lesson/10be7adefc3ad6e426298ff012ddc78a?ref=outlook-calendar
STATUS:CONFIRMED
SEQUENCE:3
BEGIN:VALARM
TRIGGER:-PT10M
DESCRIPTION:Class Reminder
ACTION:DISPLAY
END:VALARM
END:VEVENT
END:VCALENDAR