BEGIN:VCALENDAR
VERSION:2.0
CALSCALE:GREGORIAN
BEGIN:VEVENT
URL:https://www.learndesk.us/class/5326299717435392/lesson/0a67ee6aff5e632fa37e6597a27cefa4?ref=outlook-calendar
SUMMARY:A Simplified View Of Materials
DTSTART;TZID=America/Los_Angeles:20260423T190000
DTEND;TZID=America/Los_Angeles:20260423T200000
LOCATION:https://www.learndesk.us/class/5326299717435392/lesson/0a67ee6aff5e632fa37e6597a27cefa4?ref=outlook-calendar
DESCRIPTION: Starting high level, we go through all material options, and narrow down to a Go To list of materials for your designs.  Metals, Plastics, Ceramics, and Composites.

https://www.learndesk.us/class/5326299717435392/lesson/0a67ee6aff5e632fa37e6597a27cefa4?ref=outlook-calendar
STATUS:CONFIRMED
SEQUENCE:3
BEGIN:VALARM
TRIGGER:-PT10M
DESCRIPTION:Class Reminder
ACTION:DISPLAY
END:VALARM
END:VEVENT
END:VCALENDAR