BEGIN:VCALENDAR
VERSION:2.0
CALSCALE:GREGORIAN
BEGIN:VEVENT
URL:https://www.learndesk.us/class/5326299717435392/lesson/0867b371fbdc2ed7c1196565329b38e2?ref=outlook-calendar
SUMMARY:Speed Modeling - Fast And Easy First Designs of Your Product
DTSTART;TZID=America/Los_Angeles:20260423T190000
DTEND;TZID=America/Los_Angeles:20260423T200000
LOCATION:https://www.learndesk.us/class/5326299717435392/lesson/0867b371fbdc2ed7c1196565329b38e2?ref=outlook-calendar
DESCRIPTION: https://www.learndesk.us/class/5326299717435392/lesson/0867b371fbdc2ed7c1196565329b38e2?ref=outlook-calendar
STATUS:CONFIRMED
SEQUENCE:3
BEGIN:VALARM
TRIGGER:-PT10M
DESCRIPTION:Class Reminder
ACTION:DISPLAY
END:VALARM
END:VEVENT
END:VCALENDAR