BEGIN:VCALENDAR
VERSION:2.0
CALSCALE:GREGORIAN
BEGIN:VEVENT
URL:https://www.learndesk.us/class/5326299717435392/complete-product-design-from-home?ref=outlook-calendar
SUMMARY:Complete Product Design From Home
DTSTART;TZID=America/Los_Angeles:20260423T190000
DTEND;TZID=America/Los_Angeles:20260423T200000
LOCATION:https://www.learndesk.us/class/5326299717435392/complete-product-design-from-home?ref=outlook-calendar
DESCRIPTION: 
My name is Sampson Moore. I'm currently a mechanical engineer at [X], Google's moonshot factory in Silicon Valley. I build and design electro-mechanical devices on a daily basis, and in this course, I teach you all the skills you need in order to design a product from your home.
At Home Engineering The Course is the ultimate, practical design course. After taking this course, you will know the methods and the tools to produce working, professional designs. I've brought together the best of the internet for you, so everything is done in free and professional software programs. 
What will you learn in this course?

CAD from the ground up. What CAD program to use, the four methods to draw any part in 3D, and bringing your product to motion
Simplified materials: How to choose materials for your designs, whether metal, plastic, ceramic, or composite -- AND when to choose them.
The six manufacturing methods to produce any part. You'll also learn programs and websites to get your parts...

https://www.learndesk.us/class/5326299717435392/complete-product-design-from-home?ref=outlook-calendar
STATUS:CONFIRMED
SEQUENCE:3
BEGIN:VALARM
TRIGGER:-PT10M
DESCRIPTION:Class Reminder
ACTION:DISPLAY
END:VALARM
END:VEVENT
END:VCALENDAR