BEGIN:VCALENDAR
VERSION:2.0
CALSCALE:GREGORIAN
BEGIN:VEVENT
URL:https://www.learndesk.us/class/5323170296889344/lesson/addf9c2d6103c72e233ac433813f1ea2?ref=outlook-calendar
SUMMARY:Sum up
DTSTART;TZID=America/Los_Angeles:20260420T190000
DTEND;TZID=America/Los_Angeles:20260420T200000
LOCATION:https://www.learndesk.us/class/5323170296889344/lesson/addf9c2d6103c72e233ac433813f1ea2?ref=outlook-calendar
DESCRIPTION: There's a lot of useful study material that I recommend you have next to you when studying. 

NOTE: You need to sign up first (completely free) dominochinese.com - then press HERE to download all the material, and if you can't see their purpose now it'll be explained to you later. 

If you have any questions along the way either post it in the comments or you can probably find your answer on our website https://www.dominochinese.com/faq

Here's how to set up a keyboard which you'll need in this course too.

https://www.dominochinese.com/keyboard

Enjoy!

/Felix, founder of DominoEducation

https://www.learndesk.us/class/5323170296889344/lesson/addf9c2d6103c72e233ac433813f1ea2?ref=outlook-calendar
STATUS:CONFIRMED
SEQUENCE:3
BEGIN:VALARM
TRIGGER:-PT10M
DESCRIPTION:Class Reminder
ACTION:DISPLAY
END:VALARM
END:VEVENT
END:VCALENDAR