BEGIN:VCALENDAR
VERSION:2.0
CALSCALE:GREGORIAN
BEGIN:VEVENT
URL:https://www.learndesk.us/class/5323170296889344/lesson/a9babf69da5bf27cab579c8e3b656f12?ref=outlook-calendar
SUMMARY:Friends
DTSTART;TZID=America/Los_Angeles:20260422T190000
DTEND;TZID=America/Los_Angeles:20260422T200000
LOCATION:https://www.learndesk.us/class/5323170296889344/lesson/a9babf69da5bf27cab579c8e3b656f12?ref=outlook-calendar
DESCRIPTION: https://www.learndesk.us/class/5323170296889344/lesson/a9babf69da5bf27cab579c8e3b656f12?ref=outlook-calendar
STATUS:CONFIRMED
SEQUENCE:3
BEGIN:VALARM
TRIGGER:-PT10M
DESCRIPTION:Class Reminder
ACTION:DISPLAY
END:VALARM
END:VEVENT
END:VCALENDAR