BEGIN:VCALENDAR
VERSION:2.0
CALSCALE:GREGORIAN
BEGIN:VEVENT
URL:https://www.learndesk.us/class/5323170296889344/lesson/8cb58668632496b6a8f5ca85ef7de029?ref=outlook-calendar
SUMMARY:Lesson 9 - Mamamamama
DTSTART;TZID=America/Los_Angeles:20260420T190000
DTEND;TZID=America/Los_Angeles:20260420T200000
LOCATION:https://www.learndesk.us/class/5323170296889344/lesson/8cb58668632496b6a8f5ca85ef7de029?ref=outlook-calendar
DESCRIPTION: In lesson 9 we’ll learn the first and most important conversation along with family words.

https://www.learndesk.us/class/5323170296889344/lesson/8cb58668632496b6a8f5ca85ef7de029?ref=outlook-calendar
STATUS:CONFIRMED
SEQUENCE:3
BEGIN:VALARM
TRIGGER:-PT10M
DESCRIPTION:Class Reminder
ACTION:DISPLAY
END:VALARM
END:VEVENT
END:VCALENDAR