BEGIN:VCALENDAR
VERSION:2.0
CALSCALE:GREGORIAN
BEGIN:VEVENT
URL:https://www.learndesk.us/class/5323170296889344/lesson/7b6f58b31cc57869002e2a5d0f0c5b0b?ref=outlook-calendar
SUMMARY:Aggressive love
DTSTART;TZID=America/Los_Angeles:20260422T190000
DTEND;TZID=America/Los_Angeles:20260422T200000
LOCATION:https://www.learndesk.us/class/5323170296889344/lesson/7b6f58b31cc57869002e2a5d0f0c5b0b?ref=outlook-calendar
DESCRIPTION: https://www.learndesk.us/class/5323170296889344/lesson/7b6f58b31cc57869002e2a5d0f0c5b0b?ref=outlook-calendar
STATUS:CONFIRMED
SEQUENCE:3
BEGIN:VALARM
TRIGGER:-PT10M
DESCRIPTION:Class Reminder
ACTION:DISPLAY
END:VALARM
END:VEVENT
END:VCALENDAR