BEGIN:VCALENDAR
VERSION:2.0
CALSCALE:GREGORIAN
BEGIN:VEVENT
URL:https://www.learndesk.us/class/5323170296889344/lesson/50ea63c2f9d79e0340c785961f1f8fd0?ref=outlook-calendar
SUMMARY:我们 are family
DTSTART;TZID=America/Los_Angeles:20260420T190000
DTEND;TZID=America/Los_Angeles:20260420T200000
LOCATION:https://www.learndesk.us/class/5323170296889344/lesson/50ea63c2f9d79e0340c785961f1f8fd0?ref=outlook-calendar
DESCRIPTION: https://www.learndesk.us/class/5323170296889344/lesson/50ea63c2f9d79e0340c785961f1f8fd0?ref=outlook-calendar
STATUS:CONFIRMED
SEQUENCE:3
BEGIN:VALARM
TRIGGER:-PT10M
DESCRIPTION:Class Reminder
ACTION:DISPLAY
END:VALARM
END:VEVENT
END:VCALENDAR