BEGIN:VCALENDAR
VERSION:2.0
CALSCALE:GREGORIAN
BEGIN:VEVENT
URL:https://www.learndesk.us/class/5323170296889344/lesson/33b97e67305549a2fe1e3249bbf99bba?ref=outlook-calendar
SUMMARY:Ann‘s rich
DTSTART;TZID=America/Los_Angeles:20260420T190000
DTEND;TZID=America/Los_Angeles:20260420T200000
LOCATION:https://www.learndesk.us/class/5323170296889344/lesson/33b97e67305549a2fe1e3249bbf99bba?ref=outlook-calendar
DESCRIPTION: https://www.learndesk.us/class/5323170296889344/lesson/33b97e67305549a2fe1e3249bbf99bba?ref=outlook-calendar
STATUS:CONFIRMED
SEQUENCE:3
BEGIN:VALARM
TRIGGER:-PT10M
DESCRIPTION:Class Reminder
ACTION:DISPLAY
END:VALARM
END:VEVENT
END:VCALENDAR