BEGIN:VCALENDAR
VERSION:2.0
CALSCALE:GREGORIAN
BEGIN:VEVENT
URL:https://www.learndesk.us/class/5323170296889344/lesson/22de288e97bc4bc3f5612488cb0285a9?ref=outlook-calendar
SUMMARY:The most common character
DTSTART;TZID=America/Los_Angeles:20260420T190000
DTEND;TZID=America/Los_Angeles:20260420T200000
LOCATION:https://www.learndesk.us/class/5323170296889344/lesson/22de288e97bc4bc3f5612488cb0285a9?ref=outlook-calendar
DESCRIPTION: https://www.learndesk.us/class/5323170296889344/lesson/22de288e97bc4bc3f5612488cb0285a9?ref=outlook-calendar
STATUS:CONFIRMED
SEQUENCE:3
BEGIN:VALARM
TRIGGER:-PT10M
DESCRIPTION:Class Reminder
ACTION:DISPLAY
END:VALARM
END:VEVENT
END:VCALENDAR