BEGIN:VCALENDAR
VERSION:2.0
CALSCALE:GREGORIAN
BEGIN:VEVENT
URL:https://www.learndesk.us/class/5323170296889344/lesson/1883b9ef8da05af9212cef7f46479cff?ref=outlook-calendar
SUMMARY:Lesson 14 - Space and time
DTSTART;TZID=America/Los_Angeles:20260420T190000
DTEND;TZID=America/Los_Angeles:20260420T200000
LOCATION:https://www.learndesk.us/class/5323170296889344/lesson/1883b9ef8da05af9212cef7f46479cff?ref=outlook-calendar
DESCRIPTION: In lesson 14 we’ll learn how to talk about work and more common everyday phrases.

https://www.learndesk.us/class/5323170296889344/lesson/1883b9ef8da05af9212cef7f46479cff?ref=outlook-calendar
STATUS:CONFIRMED
SEQUENCE:3
BEGIN:VALARM
TRIGGER:-PT10M
DESCRIPTION:Class Reminder
ACTION:DISPLAY
END:VALARM
END:VEVENT
END:VCALENDAR