BEGIN:VCALENDAR
VERSION:2.0
CALSCALE:GREGORIAN
BEGIN:VEVENT
URL:https://www.learndesk.us/class/5307908365484032/lesson/b9cc06ee1b3966090eb6c523bcd7720a?ref=outlook-calendar
SUMMARY:Embedded If-Then Statements (continued)
DTSTART;TZID=America/Los_Angeles:20260423T190000
DTEND;TZID=America/Los_Angeles:20260423T200000
LOCATION:https://www.learndesk.us/class/5307908365484032/lesson/b9cc06ee1b3966090eb6c523bcd7720a?ref=outlook-calendar
DESCRIPTION: https://www.learndesk.us/class/5307908365484032/lesson/b9cc06ee1b3966090eb6c523bcd7720a?ref=outlook-calendar
STATUS:CONFIRMED
SEQUENCE:3
BEGIN:VALARM
TRIGGER:-PT10M
DESCRIPTION:Class Reminder
ACTION:DISPLAY
END:VALARM
END:VEVENT
END:VCALENDAR