BEGIN:VCALENDAR
VERSION:2.0
CALSCALE:GREGORIAN
BEGIN:VEVENT
URL:https://www.learndesk.us/class/5307908365484032/lesson/a6e37ff654b01403ca0c280f015223f4?ref=outlook-calendar
SUMMARY:The “2 out of 5” Rule
DTSTART;TZID=America/Los_Angeles:20260423T190000
DTEND;TZID=America/Los_Angeles:20260423T200000
LOCATION:https://www.learndesk.us/class/5307908365484032/lesson/a6e37ff654b01403ca0c280f015223f4?ref=outlook-calendar
DESCRIPTION: https://www.learndesk.us/class/5307908365484032/lesson/a6e37ff654b01403ca0c280f015223f4?ref=outlook-calendar
STATUS:CONFIRMED
SEQUENCE:3
BEGIN:VALARM
TRIGGER:-PT10M
DESCRIPTION:Class Reminder
ACTION:DISPLAY
END:VALARM
END:VEVENT
END:VCALENDAR