BEGIN:VCALENDAR
VERSION:2.0
CALSCALE:GREGORIAN
BEGIN:VEVENT
URL:https://www.learndesk.us/class/5307908365484032/lesson/813060af134f4eb5c95f3554d7b9bd59?ref=outlook-calendar
SUMMARY:Compare and Contrast (continued)
DTSTART;TZID=America/Los_Angeles:20260423T190000
DTEND;TZID=America/Los_Angeles:20260423T200000
LOCATION:https://www.learndesk.us/class/5307908365484032/lesson/813060af134f4eb5c95f3554d7b9bd59?ref=outlook-calendar
DESCRIPTION: https://www.learndesk.us/class/5307908365484032/lesson/813060af134f4eb5c95f3554d7b9bd59?ref=outlook-calendar
STATUS:CONFIRMED
SEQUENCE:3
BEGIN:VALARM
TRIGGER:-PT10M
DESCRIPTION:Class Reminder
ACTION:DISPLAY
END:VALARM
END:VEVENT
END:VCALENDAR