BEGIN:VCALENDAR
VERSION:2.0
CALSCALE:GREGORIAN
BEGIN:VEVENT
URL:https://www.learndesk.us/class/5307908365484032/lesson/400bd7220fb6b96eb5a3ca6f02b79519?ref=outlook-calendar
SUMMARY:Percentage vs. Absolute Number
DTSTART;TZID=America/Los_Angeles:20260422T190000
DTEND;TZID=America/Los_Angeles:20260422T200000
LOCATION:https://www.learndesk.us/class/5307908365484032/lesson/400bd7220fb6b96eb5a3ca6f02b79519?ref=outlook-calendar
DESCRIPTION: https://www.learndesk.us/class/5307908365484032/lesson/400bd7220fb6b96eb5a3ca6f02b79519?ref=outlook-calendar
STATUS:CONFIRMED
SEQUENCE:3
BEGIN:VALARM
TRIGGER:-PT10M
DESCRIPTION:Class Reminder
ACTION:DISPLAY
END:VALARM
END:VEVENT
END:VCALENDAR