BEGIN:VCALENDAR
VERSION:2.0
CALSCALE:GREGORIAN
BEGIN:VEVENT
URL:https://www.learndesk.us/class/5307908365484032/lesson/3d117e3e260f861a8ffec7f2b67a2c58?ref=outlook-calendar
SUMMARY:Three-Step Method 3
DTSTART;TZID=America/Los_Angeles:20260425T190000
DTEND;TZID=America/Los_Angeles:20260425T200000
LOCATION:https://www.learndesk.us/class/5307908365484032/lesson/3d117e3e260f861a8ffec7f2b67a2c58?ref=outlook-calendar
DESCRIPTION: https://www.learndesk.us/class/5307908365484032/lesson/3d117e3e260f861a8ffec7f2b67a2c58?ref=outlook-calendar
STATUS:CONFIRMED
SEQUENCE:3
BEGIN:VALARM
TRIGGER:-PT10M
DESCRIPTION:Class Reminder
ACTION:DISPLAY
END:VALARM
END:VEVENT
END:VCALENDAR