BEGIN:VCALENDAR
VERSION:2.0
CALSCALE:GREGORIAN
BEGIN:VEVENT
URL:https://www.learndesk.us/class/5307908365484032/lsat-prep-course?ref=outlook-calendar
SUMMARY:LSAT Prep Course
DTSTART;TZID=America/Los_Angeles:20260422T190000
DTEND;TZID=America/Los_Angeles:20260422T200000
LOCATION:https://www.learndesk.us/class/5307908365484032/lsat-prep-course?ref=outlook-calendar
DESCRIPTION: 
Every year, students pay $1,000 and more to test prep companies to prepare for the LSAT. Now you can get the same preparation in an online course. LSAT Prep Course provides the equivalent of a 2-month, 50-hour course.
The LSAT is an aptitude test. Like all aptitude tests, it must choose a medium in which to measure intellectual ability. The LSAT has accepted logic. Although this makes the LSAT hard, it also makes the test predictable - it is based on fundamental principles of logic. LSAT Prep Course analyzes and codifies these basic principles: the contrapositive, the if-then, pivotal words, etc. Armed with this knowledge, you will have the ability to increase your score significantly. 
This course is comprehensive and rigorous. It contains all the content from the 560-page book Master The LSAT, so it is fully self-contained. You will not need to get any outside materials for the course.
Features:

Videos: Hundreds of videos explaining the text, examples, and exercises in...

https://www.learndesk.us/class/5307908365484032/lsat-prep-course?ref=outlook-calendar
STATUS:CONFIRMED
SEQUENCE:3
BEGIN:VALARM
TRIGGER:-PT10M
DESCRIPTION:Class Reminder
ACTION:DISPLAY
END:VALARM
END:VEVENT
END:VCALENDAR