BEGIN:VCALENDAR
VERSION:2.0
CALSCALE:GREGORIAN
BEGIN:VEVENT
URL:https://www.learndesk.us/class/5294046878629888/lesson/ec8ae9f458d0c92d2ffa75309ca61780?ref=outlook-calendar
SUMMARY:Reveal Formatting
DTSTART;TZID=America/Los_Angeles:20260425T190000
DTEND;TZID=America/Los_Angeles:20260425T200000
LOCATION:https://www.learndesk.us/class/5294046878629888/lesson/ec8ae9f458d0c92d2ffa75309ca61780?ref=outlook-calendar
DESCRIPTION: In this lesson, you will learn how to use Reveal Formatting to check the formatting of the selected text and also how to compare the formatting of two selections.
A sample document has been included with this lesson.

https://www.learndesk.us/class/5294046878629888/lesson/ec8ae9f458d0c92d2ffa75309ca61780?ref=outlook-calendar
STATUS:CONFIRMED
SEQUENCE:3
BEGIN:VALARM
TRIGGER:-PT10M
DESCRIPTION:Class Reminder
ACTION:DISPLAY
END:VALARM
END:VEVENT
END:VCALENDAR