BEGIN:VCALENDAR
VERSION:2.0
CALSCALE:GREGORIAN
BEGIN:VEVENT
URL:https://www.learndesk.us/class/5294046878629888/lesson/eb572cd35ad46556feff6db23c759bc9?ref=outlook-calendar
SUMMARY:Style Inspector
DTSTART;TZID=America/Los_Angeles:20260421T190000
DTEND;TZID=America/Los_Angeles:20260421T200000
LOCATION:https://www.learndesk.us/class/5294046878629888/lesson/eb572cd35ad46556feff6db23c759bc9?ref=outlook-calendar
DESCRIPTION: You will learn how to troubleshoot styles within your document using the Style Inspector.
A sample document is included with this lesson.

https://www.learndesk.us/class/5294046878629888/lesson/eb572cd35ad46556feff6db23c759bc9?ref=outlook-calendar
STATUS:CONFIRMED
SEQUENCE:3
BEGIN:VALARM
TRIGGER:-PT10M
DESCRIPTION:Class Reminder
ACTION:DISPLAY
END:VALARM
END:VEVENT
END:VCALENDAR