BEGIN:VCALENDAR
VERSION:2.0
CALSCALE:GREGORIAN
BEGIN:VEVENT
URL:https://www.learndesk.us/class/5294046878629888/lesson/e019d71c9132cfcb85c2c51d5eafffdc?ref=outlook-calendar
SUMMARY:Export to PDF
DTSTART;TZID=America/Los_Angeles:20260421T190000
DTEND;TZID=America/Los_Angeles:20260421T200000
LOCATION:https://www.learndesk.us/class/5294046878629888/lesson/e019d71c9132cfcb85c2c51d5eafffdc?ref=outlook-calendar
DESCRIPTION: You will learn how to use the Export feature to create a PDF, using your headings to create bookmarks.
Sample document is included with this lesson.

https://www.learndesk.us/class/5294046878629888/lesson/e019d71c9132cfcb85c2c51d5eafffdc?ref=outlook-calendar
STATUS:CONFIRMED
SEQUENCE:3
BEGIN:VALARM
TRIGGER:-PT10M
DESCRIPTION:Class Reminder
ACTION:DISPLAY
END:VALARM
END:VEVENT
END:VCALENDAR