BEGIN:VCALENDAR
VERSION:2.0
CALSCALE:GREGORIAN
BEGIN:VEVENT
URL:https://www.learndesk.us/class/5294046878629888/lesson/bb9b78ef67a2637b989178d70e308f53?ref=outlook-calendar
SUMMARY:Saving, Protecting and Inspecting Your Documents
DTSTART;TZID=America/Los_Angeles:20260421T190000
DTEND;TZID=America/Los_Angeles:20260421T200000
LOCATION:https://www.learndesk.us/class/5294046878629888/lesson/bb9b78ef67a2637b989178d70e308f53?ref=outlook-calendar
DESCRIPTION: You will learn how to save and password protects your document.  You will also learn how to inspect your document to remove hidden data and personal information. 
Sample documents have been included with this lesson.

https://www.learndesk.us/class/5294046878629888/lesson/bb9b78ef67a2637b989178d70e308f53?ref=outlook-calendar
STATUS:CONFIRMED
SEQUENCE:3
BEGIN:VALARM
TRIGGER:-PT10M
DESCRIPTION:Class Reminder
ACTION:DISPLAY
END:VALARM
END:VEVENT
END:VCALENDAR