BEGIN:VCALENDAR
VERSION:2.0
CALSCALE:GREGORIAN
BEGIN:VEVENT
URL:https://www.learndesk.us/class/5294046878629888/lesson/b3f3ddfc6f5938d49b19601e0f54b930?ref=outlook-calendar
SUMMARY:Saving, Protecting and Inspecting Your Documents Quiz
DTSTART;TZID=America/Los_Angeles:20260421T190000
DTEND;TZID=America/Los_Angeles:20260421T200000
LOCATION:https://www.learndesk.us/class/5294046878629888/lesson/b3f3ddfc6f5938d49b19601e0f54b930?ref=outlook-calendar
DESCRIPTION: https://www.learndesk.us/class/5294046878629888/lesson/b3f3ddfc6f5938d49b19601e0f54b930?ref=outlook-calendar
STATUS:CONFIRMED
SEQUENCE:3
BEGIN:VALARM
TRIGGER:-PT10M
DESCRIPTION:Class Reminder
ACTION:DISPLAY
END:VALARM
END:VEVENT
END:VCALENDAR