BEGIN:VCALENDAR
VERSION:2.0
CALSCALE:GREGORIAN
BEGIN:VEVENT
URL:https://www.learndesk.us/class/5294046878629888/lesson/af1d66e4c358d0675e34cdbd57601c0a?ref=outlook-calendar
SUMMARY:Contextual Tabs and Key Tips
DTSTART;TZID=America/Los_Angeles:20260421T190000
DTEND;TZID=America/Los_Angeles:20260421T200000
LOCATION:https://www.learndesk.us/class/5294046878629888/lesson/af1d66e4c358d0675e34cdbd57601c0a?ref=outlook-calendar
DESCRIPTION: You will learn how to navigate the various custom commands that become available when using specific Word features. You will also learn how to use the key tips that enable navigating the tabs and ribbons via your keyboard.

https://www.learndesk.us/class/5294046878629888/lesson/af1d66e4c358d0675e34cdbd57601c0a?ref=outlook-calendar
STATUS:CONFIRMED
SEQUENCE:3
BEGIN:VALARM
TRIGGER:-PT10M
DESCRIPTION:Class Reminder
ACTION:DISPLAY
END:VALARM
END:VEVENT
END:VCALENDAR