BEGIN:VCALENDAR
VERSION:2.0
CALSCALE:GREGORIAN
BEGIN:VEVENT
URL:https://www.learndesk.us/class/5294046878629888/lesson/8cccbe297aa8e614a48f70ebbd962ec5?ref=outlook-calendar
SUMMARY:Working with Tables
DTSTART;TZID=America/Los_Angeles:20260425T190000
DTEND;TZID=America/Los_Angeles:20260425T200000
LOCATION:https://www.learndesk.us/class/5294046878629888/lesson/8cccbe297aa8e614a48f70ebbd962ec5?ref=outlook-calendar
DESCRIPTION: You will learn how to work with and apply Borders and Styles to create custom tables.
The Step-by-Step instructions included with the Creating Tables lesson also apply to this section.
Sample documents have also been included with this lesson.

https://www.learndesk.us/class/5294046878629888/lesson/8cccbe297aa8e614a48f70ebbd962ec5?ref=outlook-calendar
STATUS:CONFIRMED
SEQUENCE:3
BEGIN:VALARM
TRIGGER:-PT10M
DESCRIPTION:Class Reminder
ACTION:DISPLAY
END:VALARM
END:VEVENT
END:VCALENDAR