BEGIN:VCALENDAR
VERSION:2.0
CALSCALE:GREGORIAN
BEGIN:VEVENT
URL:https://www.learndesk.us/class/5294046878629888/lesson/80892b7c7595bbbf87161810cae83604?ref=outlook-calendar
SUMMARY:Styles
DTSTART;TZID=America/Los_Angeles:20260421T190000
DTEND;TZID=America/Los_Angeles:20260421T200000
LOCATION:https://www.learndesk.us/class/5294046878629888/lesson/80892b7c7595bbbf87161810cae83604?ref=outlook-calendar
DESCRIPTION: You will learn how to 
  Apply a Quick Style
  View all styles within your document
  Edit the Quick Style Gallery
  Use the Format Painter to apply a style
  Clear a style from selected text
Step-by-step instructions and a sample document have been included with this lesson.

https://www.learndesk.us/class/5294046878629888/lesson/80892b7c7595bbbf87161810cae83604?ref=outlook-calendar
STATUS:CONFIRMED
SEQUENCE:3
BEGIN:VALARM
TRIGGER:-PT10M
DESCRIPTION:Class Reminder
ACTION:DISPLAY
END:VALARM
END:VEVENT
END:VCALENDAR