BEGIN:VCALENDAR
VERSION:2.0
CALSCALE:GREGORIAN
BEGIN:VEVENT
URL:https://www.learndesk.us/class/5294046878629888/lesson/751c70952fc7acf1e69b3b2bdba20078?ref=outlook-calendar
SUMMARY:Quick Access Toolbar
DTSTART;TZID=America/Los_Angeles:20260421T190000
DTEND;TZID=America/Los_Angeles:20260421T200000
LOCATION:https://www.learndesk.us/class/5294046878629888/lesson/751c70952fc7acf1e69b3b2bdba20078?ref=outlook-calendar
DESCRIPTION: You will learn how to work with the Quick Access Toolbar -
  Add custom commands
  Reorder the commands
  Remove commands
  Reset it back to default commands
  Move to below the ribbons

https://www.learndesk.us/class/5294046878629888/lesson/751c70952fc7acf1e69b3b2bdba20078?ref=outlook-calendar
STATUS:CONFIRMED
SEQUENCE:3
BEGIN:VALARM
TRIGGER:-PT10M
DESCRIPTION:Class Reminder
ACTION:DISPLAY
END:VALARM
END:VEVENT
END:VCALENDAR