BEGIN:VCALENDAR
VERSION:2.0
CALSCALE:GREGORIAN
BEGIN:VEVENT
URL:https://www.learndesk.us/class/5294046878629888/lesson/712870dabf4d4de5ff67a522001d3226?ref=outlook-calendar
SUMMARY:Opening Document/Template from Quick Access Toolbar
DTSTART;TZID=America/Los_Angeles:20260421T190000
DTEND;TZID=America/Los_Angeles:20260421T200000
LOCATION:https://www.learndesk.us/class/5294046878629888/lesson/712870dabf4d4de5ff67a522001d3226?ref=outlook-calendar
DESCRIPTION: You will learn how to create a macro to open a document or template, then add that macro to your Quick Access Toolbar so you can open your document with just one click.
Tips and Tricks document for this section is included with this lesson.

https://www.learndesk.us/class/5294046878629888/lesson/712870dabf4d4de5ff67a522001d3226?ref=outlook-calendar
STATUS:CONFIRMED
SEQUENCE:3
BEGIN:VALARM
TRIGGER:-PT10M
DESCRIPTION:Class Reminder
ACTION:DISPLAY
END:VALARM
END:VEVENT
END:VCALENDAR